BEGIN:VCALENDAR
VERSION:2.0
PRODID:-//Eco Alianza de Loreto | Loreto, B.C.S. - ECPv6.15.17.1//NONSGML v1.0//EN
CALSCALE:GREGORIAN
METHOD:PUBLISH
X-WR-CALNAME:Eco Alianza de Loreto | Loreto, B.C.S.
X-ORIGINAL-URL:https://ecoalianzaloreto.org
X-WR-CALDESC:Events for Eco Alianza de Loreto | Loreto, B.C.S.
REFRESH-INTERVAL;VALUE=DURATION:PT1H
X-Robots-Tag:noindex
X-PUBLISHED-TTL:PT1H
BEGIN:VTIMEZONE
TZID:UTC
BEGIN:STANDARD
TZOFFSETFROM:+0000
TZOFFSETTO:+0000
TZNAME:UTC
DTSTART:20220101T000000
END:STANDARD
END:VTIMEZONE
BEGIN:VEVENT
DTSTART;TZID=UTC:20231111T173000
DTEND;TZID=UTC:20231111T235900
DTSTAMP:20260419T175954
CREATED:20230217T100703Z
LAST-MODIFIED:20230917T012638Z
UID:17548-1699723800-1699747140@ecoalianzaloreto.org
SUMMARY:Reservations are now open! Eco-Alianza's 2023 Anniversary GALA
DESCRIPTION:Reservations are now open\, click here.
URL:https://ecoalianzaloreto.org/event/announcing-the-date-alianzas-2023-anniversary-gala/
LOCATION:Hotel La Misión de Loreto\, S/N Calle Rosendo Robles\, Loreto\, B.C.S.\, 23880\, Mexico
CATEGORIES:Anniversary Celebration
ORGANIZER;CN="Nidia Ramirez":MAILTO:nidia.ramirez@ecoalianzaloreto.net
END:VEVENT
END:VCALENDAR