BEGIN:VCALENDAR
VERSION:2.0
PRODID:-//Eco Alianza de Loreto | Loreto, B.C.S. - ECPv6.15.17.1//NONSGML v1.0//EN
CALSCALE:GREGORIAN
METHOD:PUBLISH
X-WR-CALNAME:Eco Alianza de Loreto | Loreto, B.C.S.
X-ORIGINAL-URL:https://ecoalianzaloreto.org
X-WR-CALDESC:Events for Eco Alianza de Loreto | Loreto, B.C.S.
REFRESH-INTERVAL;VALUE=DURATION:PT1H
X-Robots-Tag:noindex
X-PUBLISHED-TTL:PT1H
BEGIN:VTIMEZONE
TZID:UTC
BEGIN:STANDARD
TZOFFSETFROM:+0000
TZOFFSETTO:+0000
TZNAME:UTC
DTSTART:20220101T000000
END:STANDARD
END:VTIMEZONE
BEGIN:VEVENT
DTSTART;TZID=UTC:20230223T180000
DTEND;TZID=UTC:20230223T200000
DTSTAMP:20260422T082226
CREATED:20230217T092641Z
LAST-MODIFIED:20230217T093650Z
UID:17542-1677175200-1677182400@ecoalianzaloreto.org
SUMMARY:Visiting Scientist: Dr. Carlos Cáceres of Effecto Arena A.C.
DESCRIPTION:In this next edition of the “Visiting Scientist Talks” is with us Dr. Carlos Cáceres of Effecto Arena A.C.\, who comes to share very interesting facts about the propagations of petroleum corals\, of the Pocillopora genus\, for the purpose of restoring coral reefs in the protection area flora and fauna of #Balandra\, aiming to offset the negative effects of anthropogenic activities\, such as tourism in some cases. Free Entry. \n 
URL:https://ecoalianzaloreto.org/event/visiting-scientist-plastics-with-dr-carlos-caceres-of-effecto-arena-a-c/
LOCATION:CenCoMA | Eco-Alianza’s Headquarters\, Calle Miguel Hidalgo\, Loc 3\, in downtown Loreto (1/2 block west of the Malecon)\, B.C.S\, 23880\, Mexico
CATEGORIES:CEMA,Visiting Scientist
ATTACH;FMTTYPE=image/png:https://ecoalianzaloreto.org/wp-content/uploads/2023/02/330995287_1255996055315199_277170742861570320_n.png
ORGANIZER;CN="Nidia Ramirez":MAILTO:nidia.ramirez@ecoalianzaloreto.net
END:VEVENT
END:VCALENDAR