BEGIN:VCALENDAR
VERSION:2.0
PRODID:-//Eco Alianza de Loreto | Loreto, B.C.S. - ECPv6.15.17.1//NONSGML v1.0//EN
CALSCALE:GREGORIAN
METHOD:PUBLISH
X-ORIGINAL-URL:https://ecoalianzaloreto.org
X-WR-CALDESC:Events for Eco Alianza de Loreto | Loreto, B.C.S.
REFRESH-INTERVAL;VALUE=DURATION:PT1H
X-Robots-Tag:noindex
X-PUBLISHED-TTL:PT1H
BEGIN:VTIMEZONE
TZID:UTC
BEGIN:STANDARD
TZOFFSETFROM:+0000
TZOFFSETTO:+0000
TZNAME:UTC
DTSTART:20220101T000000
END:STANDARD
END:VTIMEZONE
BEGIN:VEVENT
DTSTART;TZID=UTC:20230128T170000
DTEND;TZID=UTC:20230128T170000
DTSTAMP:20260422T093458
CREATED:20230120T131151Z
LAST-MODIFIED:20230121T044434Z
UID:17413-1674925200-1674925200@ecoalianzaloreto.org
SUMMARY:The community of Loreto will host the "Scientific street fair first edition" on Saturday\, January 28\, 2023.
DESCRIPTION:CLICK HERE FOR MORE INFORMATION AND TO MAKE A RESERVATION\n(This is a free event.)
URL:https://ecoalianzaloreto.org/event/the-community-of-loreto-will-host-the-scientific-street-fair-first-edition-on-saturday-january-28-2023/
LOCATION:Town of Loreto\, Andador Salvatierra y Romanita\, Loreto\, B.C.S.\, 23880\, Mexico
CATEGORIES:CEMA,Community Event
ATTACH;FMTTYPE=image/png:https://ecoalianzaloreto.org/wp-content/uploads/2023/01/Screenshot-2023-01-19-at-9.05.54-PM.png
ORGANIZER;CN="Nidia Ramirez":MAILTO:nidia.ramirez@ecoalianzaloreto.net
END:VEVENT
END:VCALENDAR