BEGIN:VCALENDAR
VERSION:2.0
PRODID:-//Eco Alianza de Loreto | Loreto, B.C.S. - ECPv6.15.17.1//NONSGML v1.0//EN
CALSCALE:GREGORIAN
METHOD:PUBLISH
X-ORIGINAL-URL:https://ecoalianzaloreto.org
X-WR-CALDESC:Events for Eco Alianza de Loreto | Loreto, B.C.S.
REFRESH-INTERVAL;VALUE=DURATION:PT1H
X-Robots-Tag:noindex
X-PUBLISHED-TTL:PT1H
BEGIN:VTIMEZONE
TZID:UTC
BEGIN:STANDARD
TZOFFSETFROM:+0000
TZOFFSETTO:+0000
TZNAME:UTC
DTSTART:20210101T000000
END:STANDARD
END:VTIMEZONE
BEGIN:VEVENT
DTSTART;TZID=UTC:20221112T170000
DTEND;TZID=UTC:20221112T170000
DTSTAMP:20260422T123524
CREATED:20220301T060922Z
LAST-MODIFIED:20220301T061058Z
UID:16818-1668272400-1668272400@ecoalianzaloreto.org
SUMMARY:Eco-Alianza's 15th Anniversary! / Fundraising GALA
DESCRIPTION:SAVE THE DATE! Celebrate with us Eco-Alianza’s 15th Anniversary! / Fundraising GALA at Hotel La Mision
URL:https://ecoalianzaloreto.org/event/eco-alianzas-15th-anniversary-fundraising-gala/
LOCATION:Hotel La Misión de Loreto\, S/N Calle Rosendo Robles\, Loreto\, B.C.S.\, 23880\, Mexico
CATEGORIES:Anniversary Celebration
END:VEVENT
END:VCALENDAR