BEGIN:VCALENDAR
VERSION:2.0
PRODID:-//Eco Alianza de Loreto | Loreto, B.C.S. - ECPv6.15.17.1//NONSGML v1.0//EN
CALSCALE:GREGORIAN
METHOD:PUBLISH
X-ORIGINAL-URL:https://ecoalianzaloreto.org
X-WR-CALDESC:Events for Eco Alianza de Loreto | Loreto, B.C.S.
REFRESH-INTERVAL;VALUE=DURATION:PT1H
X-Robots-Tag:noindex
X-PUBLISHED-TTL:PT1H
BEGIN:VTIMEZONE
TZID:UTC
BEGIN:STANDARD
TZOFFSETFROM:+0000
TZOFFSETTO:+0000
TZNAME:UTC
DTSTART:20210101T000000
END:STANDARD
END:VTIMEZONE
BEGIN:VEVENT
DTSTART;VALUE=DATE:20220408
DTEND;VALUE=DATE:20220410
DTSTAMP:20260422T221149
CREATED:20220301T060543Z
LAST-MODIFIED:20220405T042712Z
UID:16814-1649376000-1649548799@ecoalianzaloreto.org
SUMMARY:Loreto Cine Fest
DESCRIPTION:Download PDF of Event
URL:https://ecoalianzaloreto.org/event/film-festival/
LOCATION:Loreto Baja California Sur\, Loreto\, B.C.S.\, 23880
CATEGORIES:Film Fest
ATTACH;FMTTYPE=image/jpeg:https://ecoalianzaloreto.org/wp-content/uploads/2022/02/Logo.jpg
ORGANIZER;CN="Nidia Ramirez":MAILTO:nidia.ramirez@ecoalianzaloreto.net
END:VEVENT
BEGIN:VEVENT
DTSTART;TZID=UTC:20220429T080000
DTEND;TZID=UTC:20220429T170000
DTSTAMP:20260422T221149
CREATED:20220301T060654Z
LAST-MODIFIED:20220301T060806Z
UID:16816-1651219200-1651251600@ecoalianzaloreto.org
SUMMARY:Early California Festival begins
DESCRIPTION:Watch for details and start time of event…
URL:https://ecoalianzaloreto.org/event/early-california-festival-begins/
LOCATION:B.C.S
CATEGORIES:Events
END:VEVENT
END:VCALENDAR