BEGIN:VCALENDAR
VERSION:2.0
PRODID:-//Eco Alianza de Loreto | Loreto, B.C.S. - ECPv6.15.17.1//NONSGML v1.0//EN
CALSCALE:GREGORIAN
METHOD:PUBLISH
X-WR-CALNAME:Eco Alianza de Loreto | Loreto, B.C.S.
X-ORIGINAL-URL:https://ecoalianzaloreto.org
X-WR-CALDESC:Events for Eco Alianza de Loreto | Loreto, B.C.S.
REFRESH-INTERVAL;VALUE=DURATION:PT1H
X-Robots-Tag:noindex
X-PUBLISHED-TTL:PT1H
BEGIN:VTIMEZONE
TZID:America/Denver
BEGIN:DAYLIGHT
TZOFFSETFROM:-0700
TZOFFSETTO:-0600
TZNAME:MDT
DTSTART:20180311T090000
END:DAYLIGHT
BEGIN:STANDARD
TZOFFSETFROM:-0600
TZOFFSETTO:-0700
TZNAME:MST
DTSTART:20181104T080000
END:STANDARD
BEGIN:DAYLIGHT
TZOFFSETFROM:-0700
TZOFFSETTO:-0600
TZNAME:MDT
DTSTART:20190310T090000
END:DAYLIGHT
BEGIN:STANDARD
TZOFFSETFROM:-0600
TZOFFSETTO:-0700
TZNAME:MST
DTSTART:20191103T080000
END:STANDARD
BEGIN:DAYLIGHT
TZOFFSETFROM:-0700
TZOFFSETTO:-0600
TZNAME:MDT
DTSTART:20200308T090000
END:DAYLIGHT
BEGIN:STANDARD
TZOFFSETFROM:-0600
TZOFFSETTO:-0700
TZNAME:MST
DTSTART:20201101T080000
END:STANDARD
END:VTIMEZONE
BEGIN:VTIMEZONE
TZID:UTC
BEGIN:STANDARD
TZOFFSETFROM:+0000
TZOFFSETTO:+0000
TZNAME:UTC
DTSTART:20180101T000000
END:STANDARD
END:VTIMEZONE
BEGIN:VEVENT
DTSTART;TZID=America/Denver:20190404T080000
DTEND;TZID=America/Denver:20190404T110000
DTSTAMP:20260425T054457
CREATED:20190301T040507Z
LAST-MODIFIED:20190327T022852Z
UID:14792-1554364800-1554375600@ecoalianzaloreto.org
SUMMARY:Litter Clean-up along the Carretera
DESCRIPTION:Eco-Alianza’s Volunteer Task Force will team up with the Nopoló Association of Property Owners as well as Loreto Bay homeowners for a highway litter clean-up the morning of March 7. No need to sign up in advance – just show up at 8 a.m. at the big orange Fonatur sculpture at the north entrance to Loreto Bay. Wear sturdy shoes\, brightly colored clothing\, a hat\, and sturdy gloves if you have them. Feel free to bring a drink or a snack – we do take breaks\, and we will be finished before 11. \nAs participants from last year will tell you\, it’s a lot more fun than you might imagine\, and your neighbors (and the local environment) will thank you. Bring a friend! If you have questions\, email Alois Suter at Al.Suter@gmail.com or Mark Hufford at Mark_Hufford@yahoo.com.
URL:https://ecoalianzaloreto.org/event/highway-litter-pick-up/
LOCATION:North Entrance to Loreto Bay
CATEGORIES:Events
ATTACH;FMTTYPE=image/png:https://ecoalianzaloreto.org/wp-content/uploads/2019/02/Screen-Shot-2019-02-28-at-12.10.28-PM.png
END:VEVENT
BEGIN:VEVENT
DTSTART;TZID=UTC:20190404T170000
DTEND;TZID=UTC:20190404T170000
DTSTAMP:20260425T054457
CREATED:20190327T023055Z
LAST-MODIFIED:20190327T023055Z
UID:14879-1554397200-1554397200@ecoalianzaloreto.org
SUMMARY:Visiting Scientist Presentation on Chocolate Clams
DESCRIPTION:As part of Eco-Alianza’s Visiting Scientist program\, Ph.D. candidate Kara Pellowe will discuss her research on the biological processes of chocolate clams and the social impacts of Loreto’s chocolate clam fishery. The bilingual program is free and open to the public\, and will be presented Thursday\, April 4\, at 5:00 p.m. at Eco-Alianza’s CenCoMA headquarters in the upstairs auditorium. \nKara holds a Bachelor of Science degree from Cornell University in the Science of Natural and Environmental Systems. She also earned dual Masters degrees in Biology and Sociology from Brown University\, and is pursuing a Ph.D. in the Ecology and Environmental Sciences Program at the University of Maine. \nMore specifically\, Kara says\, “I am investigating the dynamics of coupled social-ecological systems\, especially how ecological processes\, together with human activities\, influence ecosystem function and the delivery of valuable ecosystem services on which people rely. My dissertation research is focused on understanding how ecological and social factors affect the resilience of the Mexican chocolate clam fishery in Baja California Sur\, Mexico.” \nKara is fluent in English and Spanish\, so she will present a bilingual program\, with slides.
URL:https://ecoalianzaloreto.org/event/visiting-scientist-presentation-on-chocolate-clams/
LOCATION:CenCoMA Loreto\, Av. Miguel Hidalgo\, Centro\, 23880\, Loreto\, B.C.S.\, 23880\, Mexico
CATEGORIES:Events
ATTACH;FMTTYPE=image/jpeg:https://ecoalianzaloreto.org/wp-content/uploads/2019/03/Kara-Pellowe560-v2.jpg
END:VEVENT
END:VCALENDAR